BEGIN:VCALENDAR
VERSION:2.0
PRODID:-//Colleen Osorio Skills Development - ECPv6.15.20//NONSGML v1.0//EN
CALSCALE:GREGORIAN
METHOD:PUBLISH
X-ORIGINAL-URL:https://colleenosorio.co.za
X-WR-CALDESC:Events for Colleen Osorio Skills Development
REFRESH-INTERVAL;VALUE=DURATION:PT1H
X-Robots-Tag:noindex
X-PUBLISHED-TTL:PT1H
BEGIN:VTIMEZONE
TZID:UTC
BEGIN:STANDARD
TZOFFSETFROM:+0000
TZOFFSETTO:+0000
TZNAME:UTC
DTSTART:20250101T000000
END:STANDARD
END:VTIMEZONE
BEGIN:VEVENT
DTSTART;TZID=UTC:20260316T090000
DTEND;TZID=UTC:20260320T130000
DTSTAMP:20260419T135712
CREATED:20220630T121415Z
LAST-MODIFIED:20260116T114505Z
UID:1286-1773651600-1774011600@colleenosorio.co.za
SUMMARY:Skills Development Facilitator
DESCRIPTION:Six Unit Standards covered: \n15221 : Provide Information and advice regarding Skills Development;\n15217 : Develop an Organizational Training & Development Plan;\n15218 : Conduct an Analysis to Determine Outcomes of Learning for Skills Development and other Purposes;\n15232 : Coordinate Planned Skills Development Interventions;\n15227 : Conduct Skills Development Administration in an Organization.
URL:https://colleenosorio.co.za/training-calendar/skills-development-facilitator/
LOCATION:Colleen Osorio Skills Development Consultancy
CATEGORIES:Skills Development Facilitator (SDF)
ORGANIZER;CN="Colleen Osorio":MAILTO:cdosorio@mweb.co.za
END:VEVENT
BEGIN:VEVENT
DTSTART;TZID=UTC:20260316T090000
DTEND;TZID=UTC:20260320T130000
DTSTAMP:20260419T135712
CREATED:20220630T123629Z
LAST-MODIFIED:20260116T114153Z
UID:1298-1773651600-1774011600@colleenosorio.co.za
SUMMARY:Qualification 50331: National Certificate in ODETDP (Study School Three)
DESCRIPTION:Organizational Skills Development Practices \n15221: Provide Information & Advice Regarding Skills Development & Related Issues;\n15217: Develop an Organizational Training & Development Plan;\n15218: Conduct an Analysis to Determine Outcome of Learning for Skills Development and Other Purposes;\n15232: Coordinate Planned Skills Development Interventions in an Organization;\n15227: Conduct Skills Development Administration in an Organization.
URL:https://colleenosorio.co.za/training-calendar/qualification-50331-national-certificate-in-odetdp-study-school-three/
LOCATION:Colleen Osorio Skills Development Consultancy
CATEGORIES:Qualification 50331: National Certificate in ODETDP
ORGANIZER;CN="Colleen Osorio":MAILTO:cdosorio@mweb.co.za
END:VEVENT
BEGIN:VEVENT
DTSTART;TZID=UTC:20260406T090000
DTEND;TZID=UTC:20260408T130000
DTSTAMP:20260419T135712
CREATED:20220630T111411Z
LAST-MODIFIED:20260116T115026Z
UID:1245-1775466000-1775653200@colleenosorio.co.za
SUMMARY:Assessor Training
DESCRIPTION:Unit Standards covered: \n115753: Conduct Outcomes-based Assessment. \n115755: Design and Develop Outcomes-based Assessments.
URL:https://colleenosorio.co.za/training-calendar/assessor-training-3/
LOCATION:Colleen Osorio Skills Development Consultancy
CATEGORIES:Assessor Training
ORGANIZER;CN="Colleen Osorio":MAILTO:cdosorio@mweb.co.za
END:VEVENT
BEGIN:VEVENT
DTSTART;TZID=UTC:20260409T080000
DTEND;TZID=UTC:20260410T170000
DTSTAMP:20260419T135712
CREATED:20250226T182509Z
LAST-MODIFIED:20260116T114844Z
UID:1349-1775721600-1775840400@colleenosorio.co.za
SUMMARY:Mentoring & Coaching
DESCRIPTION:Unit Standards covered: \n117874: Guide learners about their learning\, assessment and recognition opportunities. \n117864: Advise and counsel learners. \n 
URL:https://colleenosorio.co.za/training-calendar/mentoring-coaching/
CATEGORIES:Mentoring & Coaching
END:VEVENT
BEGIN:VEVENT
DTSTART;TZID=UTC:20260420T090000
DTEND;TZID=UTC:20260424T130000
DTSTAMP:20260419T135712
CREATED:20220630T123849Z
LAST-MODIFIED:20260116T114242Z
UID:1300-1776675600-1777035600@colleenosorio.co.za
SUMMARY:Qualification 50331: National Certificate in ODETDP (Study School Four)
DESCRIPTION:Design & Develop Outcomes-based Learning Programs and Complete a Research Assignment \n123401: Design Outcomes-based Learning Programs;\n123394: Develop Outcomes-based Learning Programs;\n10301: Complete a Research Assignment.
URL:https://colleenosorio.co.za/training-calendar/qualification-50331-national-certificate-in-odetdp-study-school-four/
LOCATION:Colleen Osorio Skills Development Consultancy
CATEGORIES:Qualification 50331: National Certificate in ODETDP
ORGANIZER;CN="Colleen Osorio":MAILTO:cdosorio@mweb.co.za
END:VEVENT
END:VCALENDAR